BEGIN:VCALENDAR
VERSION:2.0
PRODID:-//My Calendar//http://www.joedolson.com//v3.1.6//EN
METHOD:PUBLISH
CALSCALE:GREGORIAN
X-WR-CALNAME:Birbeck Education Safety & Training
X-PUBLISHED-TTL:PT24H
REFRESH-INTERVAL;VALUE=DURATION:PT24H
X-WR-CALDESC:Events from Birbeck Education Safety & Training
BEGIN:VEVENT
UID:411-6
LOCATION:
SUMMARY:BSB41412 Cert IV in Work Health & Safety
DTSTAMP:20140414T000000
ORGANIZER;CN=David Birbeck:MAILTO:david@birbeck.com.au
DTSTART;TZID=Etc/GMT+0:20140414T000000
DTEND;TZID=Etc/GMT+0:20140416T000000
URL;VALUE=URI:https://birbeck.com.au/course-calendar/
DESCRIPTION:This is a highly interactive 8 day course with real examples of the skills and knowledge required to be a Health and Safety Professional.Course runs from 8.30am until 4.30pm daily. 
CATEGORIES:2
END:VEVENT
BEGIN:VEVENT
UID:413-5
LOCATION:
SUMMARY:BSB41412 Cert IV in Work Health & Safety
DTSTAMP:20140317T000000
ORGANIZER;CN=David Birbeck:MAILTO:david@birbeck.com.au
DTSTART;TZID=Etc/GMT+0:20140317T000000
DTEND;TZID=Etc/GMT+0:20140321T000000
URL;VALUE=URI:https://birbeck.com.au/course-calendar/
DESCRIPTION:This is a highly interactive 8 day course with real examples of the skills and knowledge required to be a Health and Safety Professional.Course runs from 8.30am until 4.30pm daily. 
CATEGORIES:2
END:VEVENT
BEGIN:VEVENT
UID:410-3
LOCATION:
SUMMARY:BSB41412 Cert IV in Work Health and Safety
DTSTAMP:20140407T000000
ORGANIZER;CN=David Birbeck:MAILTO:david@birbeck.com.au
DTSTART;TZID=Etc/GMT+0:20140407T000000
DTEND;TZID=Etc/GMT+0:20140411T000000
URL;VALUE=URI:https://birbeck.com.au/course-calendar/
DESCRIPTION:This is a highly interactive 8 day course with real examples of the skills and knowledge required to be a Health and Safety Professional.Course runs from 8.30am until 4.30pm daily. 
CATEGORIES:2
END:VEVENT
BEGIN:VEVENT
UID:414-2
LOCATION:
SUMMARY:BSB41412 Cert IV in Work Health and Safety
DTSTAMP:20140324T000000
ORGANIZER;CN=David Birbeck:MAILTO:david@birbeck.com.au
DTSTART;TZID=Etc/GMT+0:20140324T000000
DTEND;TZID=Etc/GMT+0:20140326T000000
URL;VALUE=URI:https://birbeck.com.au/course-calendar/
DESCRIPTION:This is a highly interactive 8 day course with real examples of the skills and knowledge required to be a Health and Safety Professional.Course runs from 8.30am until 4.30pm daily. 
CATEGORIES:2
END:VEVENT
END:VCALENDAR